BEGIN:VCALENDAR
METHOD:PUBLISH
VERSION:2.0
PRODID:-//Eventilla iCal Syndication//NONSGML Liana//EN
BEGIN:VEVENT
UID:zWoo7@eventilla.com
DTSTAMP:20251022T140000Z
DTSTART:20251022T140000Z
DTEND:20251022T163000Z
SUMMARY:LiteracyEssentials@QNL: Navigating Google Scholar for Research and Discovery
DESCRIPTION:In this workshop you will learn the main elements of navigating the Google Scholar platform with an emphasis on how to locate and use its resources.\nThe workshop is part of the LiteracyEssentials@QNL series\, which aims to foster lifelong learning by enhancing library skills\, information and digital literacy\, and basic research skills.\nDate: 22 October 2025\nTime: 5:00 - 7:30 PM\nLanguage: English\nTarget Audience: General public\nSeats are limited\, please click the button below to register.
LOCATION:Computer Lab\, Qatar National Library\, Doha\, Qatar
URL:http://events.qnl.qa/event/zWoo7
END:VEVENT
END:VCALENDAR
