BEGIN:VCALENDAR
METHOD:PUBLISH
VERSION:2.0
PRODID:-//Eventilla iCal Syndication//NONSGML Liana//EN
BEGIN:VEVENT
UID:zwMAa@eventilla.com
DTSTAMP:20260609T100000Z
DTSTART:20260609T100000Z
DTEND:20260609T130000Z
SUMMARY:From Wastewater to Resource: Tackling PFAS and Microplastics
DESCRIPTION:\n \nThe seminar held during Mikkeli Water Week on Tuesday\, June 9 will highlight the opportunities of wastewater reuse as well as the challenges related to PFAS compounds and microplastics. The seminar will bring together experts to discuss regulation\, monitoring\, practical solutions\, and how municipalities and industry can sustainably utilize treated water. The programme will be published soon. The seminar is fully English.\nThe event is organized by the SIWat\, Balt-Plast-Free\, and BalticPFASResolve projects.\nMore information:Emmi Liikanen\, emmi.liikanen@mikseimikkeli.fi
LOCATION:Mikkeli Music College\, Maaherrankatu 10\, 50100\, Mikkeli\,
 Finland
URL:http://ssl.eventilla.com/from_wastewater_to_resource
END:VEVENT
END:VCALENDAR
