BEGIN:VCALENDAR
METHOD:PUBLISH
VERSION:2.0
PRODID:-//Eventilla iCal Syndication//NONSGML Liana//EN
BEGIN:VEVENT
UID:mZdDO@eventilla.com
DTSTAMP:20160928T173000Z
DTSTART:20160928T173000Z
DTEND:20160928T203000Z
SUMMARY:Afterwork Liana Technologies
DESCRIPTION:Vivez le lancement de LianaMonitor\nJoignez-vous à notre 1er afterwork Liana Technologies !\nAprès nos petits déjeuners\, place aux afterwork.\nPour le lancement de LianaMonitor et discuter des problématiques PR et digital actuelles\, nous vous invitons dans la somptueuse galerie Flaq près du Centre Pompidou.\nLes places sont limitées donc ne perdez pas de temps pour vous inscrire !\nUn cocktail vous sera offert et des plateaux de charcuterie/fromage vous seront proposés.\nAu programme\n19h30 - Arrivée des invités/networking\n19h45 - Mots de bienvenue\n20h00 - Présentation #1 - PR ♥ SEO\n20h30 - Présentation #2 - Media monitoring 101\n21h00 - Lancement de LianaMonitor France - Démo de l’outil et des fonctionnalités disponibles sur le marché français.\n21h30 - Networking\n22h30 - Fin de l'évènement
LOCATION:Galerie Flaq\, 36 rue Quincampoix\, 75004\, Paris\, France
URL:http://ssl.eventilla.com/event/mZdDO
END:VEVENT
END:VCALENDAR
