BEGIN:VCALENDAR
METHOD:PUBLISH
VERSION:2.0
PRODID:-//Eventilla iCal Syndication//NONSGML Liana//EN
BEGIN:VEVENT
UID:mQD3o@eventilla.com
DTSTAMP:20170228T173000Z
DTSTART:20170228T173000Z
DTEND:20170228T210000Z
SUMMARY:Afterwork Liana 28 Février
DESCRIPTION:Afterwork Email Marketing & Marketing Automation\nJoignez-vous à notre 2ème afterwork Liana Technologies !\nAprès nos petits déjeuners\, place aux afterworks.\nPour bien démarrer cette année 2017\, quoi de mieux qu'un beau cadre\, une bonne ambiance et des conférences de qualité ? Venez discuter des problématiques clés pour 2017 en Email Marketing et Marketing Automation\, nous vous invitons dans le très agréable espace Saint-Antoine le Mardi 28 Février.\nLes places sont limitées donc ne perdez pas de temps pour vous inscrire !\nUn cocktail vous sera offert et des petits-fours vous seront proposés.\nAu programme\n18h30 - Arrivée des invités/networking\n18h45 - Mots de bienvenue\n19h00 - Présentation #1 - Qu'est-ce qu'une bonne newsletter en 2017 ?\n20h00 - Présentation #2 - Marketing Automation 101\n21h00 - Présentation #3 - Case Study\, Marketing Automation\n21h45 - Networking\n22h00 - Fin de l'évènement
LOCATION:196 Rue du Faubourg Saint-Antoine\, 75012\, Paris\, France
URL:http://ssl.eventilla.com/event/mQD3o
END:VEVENT
END:VCALENDAR
